BEGIN:VCALENDAR
VERSION:2.0
PRODID:-//My Calendar//http://www.joedolson.com//v3.2.1//EN
METHOD:PUBLISH
CALSCALE:GREGORIAN
X-WR-CALNAME:公益社団法人 日本易学連合会
X-PUBLISHED-TTL:PT24H
REFRESH-INTERVAL;VALUE=DURATION:PT24H
X-WR-CALDESC:公益社団法人 日本易学連合会のイベント
BEGIN:VEVENT
UID:69-37
LOCATION:
SUMMARY:【中部】新春研修会
DTSTAMP:20170121T000000
ORGANIZER;CN={host}:MAILTO:{host_email}
DTSTART;TZID=Asia/Tokyo:20170121T000000
DTEND;TZID=Asia/Tokyo:20170122T000000
URL;VALUE=URI:https://report.nichiekiren.jp/calendar
DESCRIPTION:【中部】新春研修会 
CATEGORIES:General
X-FUNAMBOL-ALLDAY: 1
X-MICROSOFT-CDO-ALLDAYEVENT: TRUE

END:VEVENT
BEGIN:VEVENT
UID:68-36
LOCATION:
SUMMARY:【北海道】冬季研修会
DTSTAMP:20170122T000000
ORGANIZER;CN={host}:MAILTO:{host_email}
DTSTART;TZID=Asia/Tokyo:20170122T000000
DTEND;TZID=Asia/Tokyo:20170123T000000
URL;VALUE=URI:https://report.nichiekiren.jp/calendar
DESCRIPTION:【北海道】冬季研修会 
CATEGORIES:General
X-FUNAMBOL-ALLDAY: 1
X-MICROSOFT-CDO-ALLDAYEVENT: TRUE

END:VEVENT
BEGIN:VEVENT
UID:67-35
LOCATION:
SUMMARY:【おおさか】冬季研修会
DTSTAMP:20170128T000000
ORGANIZER;CN={host}:MAILTO:{host_email}
DTSTART;TZID=Asia/Tokyo:20170128T000000
DTEND;TZID=Asia/Tokyo:20170129T000000
URL;VALUE=URI:https://report.nichiekiren.jp/calendar
DESCRIPTION:【おおさか】冬季研修会 
CATEGORIES:General
X-FUNAMBOL-ALLDAY: 1
X-MICROSOFT-CDO-ALLDAYEVENT: TRUE

END:VEVENT
BEGIN:VEVENT
UID:66-34
LOCATION:
SUMMARY:【東京】新年会・講演会
DTSTAMP:20170204T000000
ORGANIZER;CN={host}:MAILTO:{host_email}
DTSTART;TZID=Asia/Tokyo:20170204T000000
DTEND;TZID=Asia/Tokyo:20170205T000000
URL;VALUE=URI:https://report.nichiekiren.jp/calendar
DESCRIPTION:【東京】新年会・講演会 
CATEGORIES:General
X-FUNAMBOL-ALLDAY: 1
X-MICROSOFT-CDO-ALLDAYEVENT: TRUE

END:VEVENT
BEGIN:VEVENT
UID:65-33
LOCATION:
SUMMARY:【京滋】冬季研修会
DTSTAMP:20170212T000000
ORGANIZER;CN={host}:MAILTO:{host_email}
DTSTART;TZID=Asia/Tokyo:20170212T000000
DTEND;TZID=Asia/Tokyo:20170213T000000
URL;VALUE=URI:https://report.nichiekiren.jp/calendar
DESCRIPTION:【京滋】冬季研修会 
CATEGORIES:General
X-FUNAMBOL-ALLDAY: 1
X-MICROSOFT-CDO-ALLDAYEVENT: TRUE

END:VEVENT
BEGIN:VEVENT
UID:64-32
LOCATION:
SUMMARY:【東京】ボランティア鑑定会
DTSTAMP:20170304T000000
ORGANIZER;CN={host}:MAILTO:{host_email}
DTSTART;TZID=Asia/Tokyo:20170304T000000
DTEND;TZID=Asia/Tokyo:20170305T000000
URL;VALUE=URI:https://report.nichiekiren.jp/calendar
DESCRIPTION:【東京】ボランティア鑑定会 
CATEGORIES:General
X-FUNAMBOL-ALLDAY: 1
X-MICROSOFT-CDO-ALLDAYEVENT: TRUE

END:VEVENT
BEGIN:VEVENT
UID:63-31
LOCATION:
SUMMARY:【山陽】春季研修会
DTSTAMP:20170423T000000
ORGANIZER;CN={host}:MAILTO:{host_email}
DTSTART;TZID=Asia/Tokyo:20170423T000000
DTEND;TZID=Asia/Tokyo:20170424T000000
URL;VALUE=URI:https://report.nichiekiren.jp/calendar
DESCRIPTION:【山陽】春季研修会 
CATEGORIES:General
X-FUNAMBOL-ALLDAY: 1
X-MICROSOFT-CDO-ALLDAYEVENT: TRUE

END:VEVENT
BEGIN:VEVENT
UID:62-30
LOCATION:
SUMMARY:【北海道】春季研修会
DTSTAMP:20170423T000000
ORGANIZER;CN={host}:MAILTO:{host_email}
DTSTART;TZID=Asia/Tokyo:20170423T000000
DTEND;TZID=Asia/Tokyo:20170424T000000
URL;VALUE=URI:https://report.nichiekiren.jp/calendar
DESCRIPTION:【北海道】春季研修会 
CATEGORIES:General
X-FUNAMBOL-ALLDAY: 1
X-MICROSOFT-CDO-ALLDAYEVENT: TRUE

END:VEVENT
BEGIN:VEVENT
UID:61-29
LOCATION:
SUMMARY:【おおさか】春季研修会
DTSTAMP:20170423T000000
ORGANIZER;CN={host}:MAILTO:{host_email}
DTSTART;TZID=Asia/Tokyo:20170423T000000
DTEND;TZID=Asia/Tokyo:20170424T000000
URL;VALUE=URI:https://report.nichiekiren.jp/calendar
DESCRIPTION:【おおさか】春季研修会 
CATEGORIES:General
X-FUNAMBOL-ALLDAY: 1
X-MICROSOFT-CDO-ALLDAYEVENT: TRUE

END:VEVENT
BEGIN:VEVENT
UID:60-28
LOCATION:
SUMMARY:【東京】春季研修会
DTSTAMP:20170422T000000
ORGANIZER;CN={host}:MAILTO:{host_email}
DTSTART;TZID=Asia/Tokyo:20170422T000000
DTEND;TZID=Asia/Tokyo:20170423T000000
URL;VALUE=URI:https://report.nichiekiren.jp/calendar
DESCRIPTION:【東京】春季研修会 
CATEGORIES:General
X-FUNAMBOL-ALLDAY: 1
X-MICROSOFT-CDO-ALLDAYEVENT: TRUE

END:VEVENT
BEGIN:VEVENT
UID:59-27
LOCATION:
SUMMARY:【中部】春季研修会
DTSTAMP:20170422T000000
ORGANIZER;CN={host}:MAILTO:{host_email}
DTSTART;TZID=Asia/Tokyo:20170422T000000
DTEND;TZID=Asia/Tokyo:20170423T000000
URL;VALUE=URI:https://report.nichiekiren.jp/calendar
DESCRIPTION:【中部】春季研修会 
CATEGORIES:General
X-FUNAMBOL-ALLDAY: 1
X-MICROSOFT-CDO-ALLDAYEVENT: TRUE

END:VEVENT
BEGIN:VEVENT
UID:58-26
LOCATION:
SUMMARY:議員会館講演会
DTSTAMP:20170419T000000
ORGANIZER;CN={host}:MAILTO:{host_email}
DTSTART;TZID=Asia/Tokyo:20170419T000000
DTEND;TZID=Asia/Tokyo:20170420T000000
URL;VALUE=URI:https://report.nichiekiren.jp/calendar
DESCRIPTION:議員会館講演会 
CATEGORIES:General
X-FUNAMBOL-ALLDAY: 1
X-MICROSOFT-CDO-ALLDAYEVENT: TRUE

END:VEVENT
BEGIN:VEVENT
UID:57-25
LOCATION:
SUMMARY:【京滋】春季研修会
DTSTAMP:20170416T000000
ORGANIZER;CN={host}:MAILTO:{host_email}
DTSTART;TZID=Asia/Tokyo:20170416T000000
DTEND;TZID=Asia/Tokyo:20170417T000000
URL;VALUE=URI:https://report.nichiekiren.jp/calendar
DESCRIPTION:【京滋】春季研修会 
CATEGORIES:General
X-FUNAMBOL-ALLDAY: 1
X-MICROSOFT-CDO-ALLDAYEVENT: TRUE

END:VEVENT
BEGIN:VEVENT
UID:56-24
LOCATION:
SUMMARY:【近畿】春季研修会
DTSTAMP:20170409T000000
ORGANIZER;CN={host}:MAILTO:{host_email}
DTSTART;TZID=Asia/Tokyo:20170409T000000
DTEND;TZID=Asia/Tokyo:20170410T000000
URL;VALUE=URI:https://report.nichiekiren.jp/calendar
DESCRIPTION:【近畿】春季研修会 
CATEGORIES:General
X-FUNAMBOL-ALLDAY: 1
X-MICROSOFT-CDO-ALLDAYEVENT: TRUE

END:VEVENT
BEGIN:VEVENT
UID:55-23
LOCATION:
SUMMARY:第89回通常総会
DTSTAMP:20170522T000000
ORGANIZER;CN={host}:MAILTO:{host_email}
DTSTART;TZID=Asia/Tokyo:20170522T000000
DTEND;TZID=Asia/Tokyo:20170523T000000
URL;VALUE=URI:https://report.nichiekiren.jp/calendar
DESCRIPTION:第89回通常総会 
CATEGORIES:General
X-FUNAMBOL-ALLDAY: 1
X-MICROSOFT-CDO-ALLDAYEVENT: TRUE

END:VEVENT
BEGIN:VEVENT
UID:54-22
LOCATION:
SUMMARY:【北海道】夏季研修会
DTSTAMP:20170618T000000
ORGANIZER;CN={host}:MAILTO:{host_email}
DTSTART;TZID=Asia/Tokyo:20170618T000000
DTEND;TZID=Asia/Tokyo:20170619T000000
URL;VALUE=URI:https://report.nichiekiren.jp/calendar
DESCRIPTION:【北海道】夏季研修会 
CATEGORIES:General
X-FUNAMBOL-ALLDAY: 1
X-MICROSOFT-CDO-ALLDAYEVENT: TRUE

END:VEVENT
BEGIN:VEVENT
UID:53-21
LOCATION:
SUMMARY:【中部】夏季研修会
DTSTAMP:20170715T000000
ORGANIZER;CN={host}:MAILTO:{host_email}
DTSTART;TZID=Asia/Tokyo:20170715T000000
DTEND;TZID=Asia/Tokyo:20170716T000000
URL;VALUE=URI:https://report.nichiekiren.jp/calendar
DESCRIPTION:【中部】夏季研修会 
CATEGORIES:General
X-FUNAMBOL-ALLDAY: 1
X-MICROSOFT-CDO-ALLDAYEVENT: TRUE

END:VEVENT
BEGIN:VEVENT
UID:52-20
LOCATION:
SUMMARY:【東京】夏季研修会
DTSTAMP:20170701T000000
ORGANIZER;CN={host}:MAILTO:{host_email}
DTSTART;TZID=Asia/Tokyo:20170701T000000
DTEND;TZID=Asia/Tokyo:20170702T000000
URL;VALUE=URI:https://report.nichiekiren.jp/calendar
DESCRIPTION:【東京】夏季研修会 
CATEGORIES:General
X-FUNAMBOL-ALLDAY: 1
X-MICROSOFT-CDO-ALLDAYEVENT: TRUE

END:VEVENT
BEGIN:VEVENT
UID:51-19
LOCATION:
SUMMARY:第5回シンポジウム
DTSTAMP:20170625T000000
ORGANIZER;CN={host}:MAILTO:{host_email}
DTSTART;TZID=Asia/Tokyo:20170625T000000
DTEND;TZID=Asia/Tokyo:20170626T000000
URL;VALUE=URI:https://report.nichiekiren.jp/calendar
DESCRIPTION:第5回シンポジウム 
CATEGORIES:General
X-FUNAMBOL-ALLDAY: 1
X-MICROSOFT-CDO-ALLDAYEVENT: TRUE

END:VEVENT
BEGIN:VEVENT
UID:50-18
LOCATION:
SUMMARY:【京滋】冬季研修会
DTSTAMP:20180218T000000
ORGANIZER;CN={host}:MAILTO:{host_email}
DTSTART;TZID=Asia/Tokyo:20180218T000000
DTEND;TZID=Asia/Tokyo:20180219T000000
URL;VALUE=URI:https://report.nichiekiren.jp/calendar
DESCRIPTION:【京滋】冬季研修会 
CATEGORIES:研修/講習
X-FUNAMBOL-ALLDAY: 1
X-MICROSOFT-CDO-ALLDAYEVENT: TRUE

END:VEVENT
BEGIN:VEVENT
UID:49-17
LOCATION:
SUMMARY:【東京】新年会
DTSTAMP:20180204T000000
ORGANIZER;CN={host}:MAILTO:{host_email}
DTSTART;TZID=Asia/Tokyo:20180204T000000
DTEND;TZID=Asia/Tokyo:20180205T000000
URL;VALUE=URI:https://report.nichiekiren.jp/calendar
DESCRIPTION:【東京】新年会 
CATEGORIES:General
X-FUNAMBOL-ALLDAY: 1
X-MICROSOFT-CDO-ALLDAYEVENT: TRUE

END:VEVENT
BEGIN:VEVENT
UID:48-16
LOCATION:
SUMMARY:【北海道】冬季研修会
DTSTAMP:20180121T000000
ORGANIZER;CN={host}:MAILTO:{host_email}
DTSTART;TZID=Asia/Tokyo:20180121T000000
DTEND;TZID=Asia/Tokyo:20180122T000000
URL;VALUE=URI:https://report.nichiekiren.jp/calendar
DESCRIPTION:【北海道】冬季研修会 
CATEGORIES:研修/講習
X-FUNAMBOL-ALLDAY: 1
X-MICROSOFT-CDO-ALLDAYEVENT: TRUE

END:VEVENT
BEGIN:VEVENT
UID:47-15
LOCATION:
SUMMARY:【中部】新春研修会
DTSTAMP:20180120T000000
ORGANIZER;CN={host}:MAILTO:{host_email}
DTSTART;TZID=Asia/Tokyo:20180120T000000
DTEND;TZID=Asia/Tokyo:20180121T000000
URL;VALUE=URI:https://report.nichiekiren.jp/calendar
DESCRIPTION:【中部】新春研修会 
CATEGORIES:研修/講習
X-FUNAMBOL-ALLDAY: 1
X-MICROSOFT-CDO-ALLDAYEVENT: TRUE

END:VEVENT
BEGIN:VEVENT
UID:46-14
LOCATION:
SUMMARY:【東京】セミナー
DTSTAMP:20180110T000000
ORGANIZER;CN={host}:MAILTO:{host_email}
DTSTART;TZID=Asia/Tokyo:20180110T000000
DTEND;TZID=Asia/Tokyo:20180111T000000
URL;VALUE=URI:https://report.nichiekiren.jp/calendar
DESCRIPTION:【東京】セミナー 
CATEGORIES:General
X-FUNAMBOL-ALLDAY: 1
X-MICROSOFT-CDO-ALLDAYEVENT: TRUE

END:VEVENT
BEGIN:VEVENT
UID:70-13
LOCATION:
SUMMARY:【東京】冬季研修会
DTSTAMP:20171126T000000
ORGANIZER;CN={host}:MAILTO:{host_email}
DTSTART;TZID=Asia/Tokyo:20171126T000000
DTEND;TZID=Asia/Tokyo:20171127T000000
URL;VALUE=URI:https://report.nichiekiren.jp/calendar
DESCRIPTION:【東京】冬季研修会１３：３０受付１４：００開始 
CATEGORIES:研修/講習
X-FUNAMBOL-ALLDAY: 1
X-MICROSOFT-CDO-ALLDAYEVENT: TRUE

END:VEVENT
BEGIN:VEVENT
UID:44-12
LOCATION:
SUMMARY:認定鑑定士章焼納奉告祭
DTSTAMP:20171115T000000
ORGANIZER;CN={host}:MAILTO:{host_email}
DTSTART;TZID=Asia/Tokyo:20171115T000000
DTEND;TZID=Asia/Tokyo:20171116T000000
URL;VALUE=URI:https://report.nichiekiren.jp/calendar
DESCRIPTION:認定鑑定士章焼納奉告祭 
CATEGORIES:General
X-FUNAMBOL-ALLDAY: 1
X-MICROSOFT-CDO-ALLDAYEVENT: TRUE

END:VEVENT
BEGIN:VEVENT
UID:43-11
LOCATION:
SUMMARY:観相学検定試験
DTSTAMP:20171105T000000
ORGANIZER;CN={host}:MAILTO:{host_email}
DTSTART;TZID=Asia/Tokyo:20171105T000000
DTEND;TZID=Asia/Tokyo:20171106T000000
URL;VALUE=URI:https://report.nichiekiren.jp/calendar
DESCRIPTION:観相学検定試験 
CATEGORIES:試験
X-FUNAMBOL-ALLDAY: 1
X-MICROSOFT-CDO-ALLDAYEVENT: TRUE

END:VEVENT
BEGIN:VEVENT
UID:42-10
LOCATION:
SUMMARY:【山陽】秋季研修会
DTSTAMP:20171029T000000
ORGANIZER;CN={host}:MAILTO:{host_email}
DTSTART;TZID=Asia/Tokyo:20171029T000000
DTEND;TZID=Asia/Tokyo:20171030T000000
URL;VALUE=URI:https://report.nichiekiren.jp/calendar
DESCRIPTION:【山陽】秋季研修会 
CATEGORIES:研修/講習
X-FUNAMBOL-ALLDAY: 1
X-MICROSOFT-CDO-ALLDAYEVENT: TRUE

END:VEVENT
BEGIN:VEVENT
UID:41-9
LOCATION:
SUMMARY:【北海道】秋季研修会
DTSTAMP:20171029T000000
ORGANIZER;CN={host}:MAILTO:{host_email}
DTSTART;TZID=Asia/Tokyo:20171029T000000
DTEND;TZID=Asia/Tokyo:20171030T000000
URL;VALUE=URI:https://report.nichiekiren.jp/calendar
DESCRIPTION:【北海道】秋季研修会 
CATEGORIES:研修/講習
X-FUNAMBOL-ALLDAY: 1
X-MICROSOFT-CDO-ALLDAYEVENT: TRUE

END:VEVENT
BEGIN:VEVENT
UID:40-8
LOCATION:
SUMMARY:【京滋】秋季研修会
DTSTAMP:20171029T000000
ORGANIZER;CN={host}:MAILTO:{host_email}
DTSTART;TZID=Asia/Tokyo:20171029T000000
DTEND;TZID=Asia/Tokyo:20171030T000000
URL;VALUE=URI:https://report.nichiekiren.jp/calendar
DESCRIPTION:【京滋】秋季研修会 
CATEGORIES:研修/講習
X-FUNAMBOL-ALLDAY: 1
X-MICROSOFT-CDO-ALLDAYEVENT: TRUE

END:VEVENT
END:VCALENDAR